BEGIN:VCALENDAR
VERSION:2.0
PRODID:-//Kommunalkino Verden e.V. - ECPv6.15.20//NONSGML v1.0//EN
CALSCALE:GREGORIAN
METHOD:PUBLISH
X-ORIGINAL-URL:https://koki-verden.de
X-WR-CALDESC:Veranstaltungen für Kommunalkino Verden e.V.
REFRESH-INTERVAL;VALUE=DURATION:PT1H
X-Robots-Tag:noindex
X-PUBLISHED-TTL:PT1H
BEGIN:VTIMEZONE
TZID:Europe/Paris
BEGIN:DAYLIGHT
TZOFFSETFROM:+0100
TZOFFSETTO:+0200
TZNAME:CEST
DTSTART:20250330T010000
END:DAYLIGHT
BEGIN:STANDARD
TZOFFSETFROM:+0200
TZOFFSETTO:+0100
TZNAME:CET
DTSTART:20251026T010000
END:STANDARD
BEGIN:DAYLIGHT
TZOFFSETFROM:+0100
TZOFFSETTO:+0200
TZNAME:CEST
DTSTART:20260329T010000
END:DAYLIGHT
BEGIN:STANDARD
TZOFFSETFROM:+0200
TZOFFSETTO:+0100
TZNAME:CET
DTSTART:20261025T010000
END:STANDARD
BEGIN:DAYLIGHT
TZOFFSETFROM:+0100
TZOFFSETTO:+0200
TZNAME:CEST
DTSTART:20270328T010000
END:DAYLIGHT
BEGIN:STANDARD
TZOFFSETFROM:+0200
TZOFFSETTO:+0100
TZNAME:CET
DTSTART:20271031T010000
END:STANDARD
END:VTIMEZONE
BEGIN:VEVENT
DTSTART;TZID=Europe/Paris:20260513T200000
DTEND;TZID=Europe/Paris:20260513T200000
DTSTAMP:20260424T011605
CREATED:20260408T082608Z
LAST-MODIFIED:20260408T082608Z
UID:3439-1778702400-1778702400@koki-verden.de
SUMMARY:Fahrenheit 451
DESCRIPTION:In einer nicht allzu fernen Zukunft ist es den Menschen verboten\, Bücher zu lesen oder überhaupt zu besitzen\, da diese ihnen nichts als Unglück bringen würden. Auch die Feuerwehr ist nicht mehr damit beschäftigt Brände zu löschen\, sondern verbliebene Bücher aufzuspüren und zu verbrennen. \nSeit fünf Jahren arbeitet Montag inzwischen bei der Feuerwehr\, doch mit der Zeit beginnt er seine Tätigkeit immer mehr zu hinterfragen und gerät damit in große Gefahr\, könnte er doch durch seine Nachforschungen die Machenschaften der totalitären Gesellschaft untergraben. \nIn Kooperation mit den Omas gegen Rechts \nGB\, F 1966\, 112 Min. \n \ntwittern teilen mitteilen 
URL:https://koki-verden.de/event/fahrenheit-451/
LOCATION:Cine City Verden\, Zollstraße 1\, Verden\, 27283\, Deutschland
END:VEVENT
END:VCALENDAR