BEGIN:VCALENDAR
VERSION:2.0
PRODID:-//Kommunalkino Verden e.V. - ECPv6.15.20//NONSGML v1.0//EN
CALSCALE:GREGORIAN
METHOD:PUBLISH
X-ORIGINAL-URL:http://koki-verden.de
X-WR-CALDESC:Veranstaltungen für Kommunalkino Verden e.V.
REFRESH-INTERVAL;VALUE=DURATION:PT1H
X-Robots-Tag:noindex
X-PUBLISHED-TTL:PT1H
BEGIN:VTIMEZONE
TZID:Europe/Paris
BEGIN:DAYLIGHT
TZOFFSETFROM:+0100
TZOFFSETTO:+0200
TZNAME:CEST
DTSTART:20240331T010000
END:DAYLIGHT
BEGIN:STANDARD
TZOFFSETFROM:+0200
TZOFFSETTO:+0100
TZNAME:CET
DTSTART:20241027T010000
END:STANDARD
BEGIN:DAYLIGHT
TZOFFSETFROM:+0100
TZOFFSETTO:+0200
TZNAME:CEST
DTSTART:20250330T010000
END:DAYLIGHT
BEGIN:STANDARD
TZOFFSETFROM:+0200
TZOFFSETTO:+0100
TZNAME:CET
DTSTART:20251026T010000
END:STANDARD
BEGIN:DAYLIGHT
TZOFFSETFROM:+0100
TZOFFSETTO:+0200
TZNAME:CEST
DTSTART:20260329T010000
END:DAYLIGHT
BEGIN:STANDARD
TZOFFSETFROM:+0200
TZOFFSETTO:+0100
TZNAME:CET
DTSTART:20261025T010000
END:STANDARD
BEGIN:DAYLIGHT
TZOFFSETFROM:+0100
TZOFFSETTO:+0200
TZNAME:CEST
DTSTART:20270328T010000
END:DAYLIGHT
BEGIN:STANDARD
TZOFFSETFROM:+0200
TZOFFSETTO:+0100
TZNAME:CET
DTSTART:20271031T010000
END:STANDARD
END:VTIMEZONE
BEGIN:VEVENT
DTSTART;VALUE=DATE:20251224
DTEND;VALUE=DATE:20260107
DTSTAMP:20260424T025303
CREATED:20251020T105012Z
LAST-MODIFIED:20251020T105100Z
UID:3331-1766534400-1767743999@koki-verden.de
SUMMARY:Weihnachtspause
DESCRIPTION:Zwischen den Jahren macht das Koki Pause. \ntwittern teilen mitteilen 
URL:http://koki-verden.de/event/wihnachtspause/
END:VEVENT
BEGIN:VEVENT
DTSTART;TZID=Europe/Paris:20260107T200000
DTEND;TZID=Europe/Paris:20260107T200000
DTSTAMP:20260424T025303
CREATED:20251128T091315Z
LAST-MODIFIED:20251128T091315Z
UID:3338-1767816000-1767816000@koki-verden.de
SUMMARY:Sentimental Value
DESCRIPTION:Nach dem Tod ihrer Mutter stehen die Schwestern Nora und Agnes vor der Herausforderung\, sich mit ihrem entfremdeten Vater Gustav auseinanderzusetzen – einem einst gefeierten\, inzwischen weitgehend in Vergessenheit geratenen Regisseur. \nNora hat eine Karriere als Schauspielerin verfolgt\, während Agnes ein ruhigeres Leben mit Familie und Beruf gewählt hat. Auf einer Retrospektive seiner Filme in Frankreich trifft Gustav auf die erfolgreiche Hollywood-Schauspielerin Rachel Kemp\, der er eine ursprünglich für Nora vorgesehene Rolle überträgt. \nAls die Dreharbeiten in Norwegen anlaufen\, sieht Gustav eine letzte Gelegenheit\, sich seinen Töchtern wieder anzunähern. \nNorwegen 2025\, 133 Min. \n \ntwittern teilen mitteilen 
URL:http://koki-verden.de/event/sentimental-value/
LOCATION:Cine City Verden\, Zollstraße 1\, Verden\, 27283\, Deutschland
END:VEVENT
BEGIN:VEVENT
DTSTART;TZID=Europe/Paris:20260114T200000
DTEND;TZID=Europe/Paris:20260114T200000
DTSTAMP:20260424T025303
CREATED:20251128T091520Z
LAST-MODIFIED:20251128T091520Z
UID:3344-1768420800-1768420800@koki-verden.de
SUMMARY:Dann passiert das Leben
DESCRIPTION:Hans (Ulrich Tukur) ist ein Schuldirektor kurz vor dem Ruhestand. Doch während seine Pensionierung immer näher rückt\, empfinden er und seine Frau Rita (Anke Engelke) statt Freude einfach nur die pure Angst. \nNach 35 Jahren Ehe stehen sie vor der Herausforderung\, sich mit ihrer einst leidenschaftlichen\, aber mittlerweile eingefahrenen Beziehung auseinanderzusetzen. Der gemeinsame Sohn hat das Nest schon lange verlassen\, Hans und Rita sind nun also wirklich die ganze Zeit alleine miteinander. Besonders Rita kommt mit dieser Umstellung nicht so gut klar. \nDann passiert auch noch ein tragischer Unfall\, der sowieso alles verändert und den Blick in die Zukunft trübt. \nDeutschland 2025\, 123 Min. \n \ntwittern teilen mitteilen 
URL:http://koki-verden.de/event/dann-passiert-das-leben/
LOCATION:Cine City Verden\, Zollstraße 1\, Verden\, 27283\, Deutschland
END:VEVENT
BEGIN:VEVENT
DTSTART;TZID=Europe/Paris:20260121T200000
DTEND;TZID=Europe/Paris:20260121T200000
DTSTAMP:20260424T025303
CREATED:20251128T091736Z
LAST-MODIFIED:20251128T091736Z
UID:3346-1769025600-1769025600@koki-verden.de
SUMMARY:The Change
DESCRIPTION:Familie Taylor\, angeführt von Professorin Ellen und ihrem Mann\, Sternekoch Paul\, feiert ihren 25. Hochzeitstag. \nDie Feierlichkeiten geraten ins Wanken\, als ihr Sohn Josh seine neue Freundin Liz vorstellt. Ellen erkennt in Liz sofort eine ehemalige Studentin wieder\, die sie einst wegen ihrer kontroversen Ansichten von der Universität verwies. \nUnd mittlerweile ist Liz eine der treibenden Kräfte hinter einer landesweiten\, radikalen Bewegung namens „The Change“. Sie ist fest entschlossen\, das politische System Amerikas umzugestalten und schreckt dabei vor nichts zurück. \nEllens Familie wird in einen Strudel aus Loyalitätskonflikten und Ideologiekämpfen gezogen. Bald muss sich die Mutter nicht nur um den Zusammenhalt ihrer eigenen Familie sorgen\, sondern auch um die grundlegenden Werte ihres Landes. \nUSA 2025\, 111 Min. \n \ntwittern teilen mitteilen 
URL:http://koki-verden.de/event/the-change/
LOCATION:Cine City Verden\, Zollstraße 1\, Verden\, 27283\, Deutschland
END:VEVENT
BEGIN:VEVENT
DTSTART;TZID=Europe/Paris:20260128T200000
DTEND;TZID=Europe/Paris:20260128T200000
DTSTAMP:20260424T025303
CREATED:20251128T091953Z
LAST-MODIFIED:20251128T091953Z
UID:3348-1769630400-1769630400@koki-verden.de
SUMMARY:Zweigstelle
DESCRIPTION:Resi und ihre drei Freunde haben schon genug Sorgen\, als sie auf dem Weg in die Alpen in einen tödlichen Unfall verwickelt werden. \nPlötzlich finden sie sich in einer bayerischen Jenseits-Behörde wieder\, die nun über ihr weiteres Schicksal entscheiden soll. Ob Elysium\, Fegefeuer oder Wiedergeburt – theoretisch steht ihnen alles offen. \nDoch als deutlich wird\, dass keiner von ihnen zu Lebzeiten an irgendetwas geglaubt hat\, stellt sich eine alles entscheidende Frage: Was geschieht eigentlich mit Menschen\, die von absolut gar nichts Religiösem oder zumindest Spirituellem überzeugt waren? \nDeutschland 2025\, 98 Min. \n \ntwittern teilen mitteilen 
URL:http://koki-verden.de/event/zweigstelle/
LOCATION:Cine City Verden\, Zollstraße 1\, Verden\, 27283\, Deutschland
END:VEVENT
END:VCALENDAR