BEGIN:VCALENDAR
VERSION:2.0
PRODID:-//Kommunalkino Verden e.V. - ECPv6.15.20//NONSGML v1.0//EN
CALSCALE:GREGORIAN
METHOD:PUBLISH
X-WR-CALNAME:Kommunalkino Verden e.V.
X-ORIGINAL-URL:http://koki-verden.de
X-WR-CALDESC:Veranstaltungen für Kommunalkino Verden e.V.
REFRESH-INTERVAL;VALUE=DURATION:PT1H
X-Robots-Tag:noindex
X-PUBLISHED-TTL:PT1H
BEGIN:VTIMEZONE
TZID:Europe/Paris
BEGIN:DAYLIGHT
TZOFFSETFROM:+0100
TZOFFSETTO:+0200
TZNAME:CEST
DTSTART:20240331T010000
END:DAYLIGHT
BEGIN:STANDARD
TZOFFSETFROM:+0200
TZOFFSETTO:+0100
TZNAME:CET
DTSTART:20241027T010000
END:STANDARD
BEGIN:DAYLIGHT
TZOFFSETFROM:+0100
TZOFFSETTO:+0200
TZNAME:CEST
DTSTART:20250330T010000
END:DAYLIGHT
BEGIN:STANDARD
TZOFFSETFROM:+0200
TZOFFSETTO:+0100
TZNAME:CET
DTSTART:20251026T010000
END:STANDARD
BEGIN:DAYLIGHT
TZOFFSETFROM:+0100
TZOFFSETTO:+0200
TZNAME:CEST
DTSTART:20260329T010000
END:DAYLIGHT
BEGIN:STANDARD
TZOFFSETFROM:+0200
TZOFFSETTO:+0100
TZNAME:CET
DTSTART:20261025T010000
END:STANDARD
BEGIN:DAYLIGHT
TZOFFSETFROM:+0100
TZOFFSETTO:+0200
TZNAME:CEST
DTSTART:20270328T010000
END:DAYLIGHT
BEGIN:STANDARD
TZOFFSETFROM:+0200
TZOFFSETTO:+0100
TZNAME:CET
DTSTART:20271031T010000
END:STANDARD
END:VTIMEZONE
BEGIN:VEVENT
DTSTART;TZID=Europe/Paris:20251203T200000
DTEND;TZID=Europe/Paris:20251203T200000
DTSTAMP:20260424T041540
CREATED:20251020T103909Z
LAST-MODIFIED:20251020T103909Z
UID:3319-1764792000-1764792000@koki-verden.de
SUMMARY:Amrum
DESCRIPTION:Gegen Ende des Zweiten Weltkriegs muss der zwölfjährige Nanning mit seiner ausgebombten Familie von Hamburg nach Amrum fliehen\, während sein Vater\, ein ranghoher Nazi\, in Kriegsgefangenschaft landet. \nHitlers Selbstmord lässt Nannings Mutter Hille\, eine überzeugte Nationalsozialistin\, in tiefe Depressionen verfallen. Nanning ist nun auf sich allein gestellt und trägt die Verantwortung für die Versorgung seiner zurückgezogenen Mutter. Doch nach Kriegsende ist so ziemlich alles Mangelware und er muss mit den anderen Bewohnern von Amrum irgendwie ins (Tausch-)Geschäft kommen. Doch die wissen um die Überzeugungen von Nannings Eltern. \nEin Film von Fatih Akin nach den Kindheitserinnerungen von Hark Bohm\nDeutschland 2025\, 93 Min. \n \ntwittern teilen mitteilen 
URL:http://koki-verden.de/event/amrum/
LOCATION:Cine City Verden\, Zollstraße 1\, Verden\, 27283\, Deutschland
END:VEVENT
BEGIN:VEVENT
DTSTART;TZID=Europe/Paris:20251210T200000
DTEND;TZID=Europe/Paris:20251210T200000
DTSTAMP:20260424T041540
CREATED:20251020T104124Z
LAST-MODIFIED:20251020T104124Z
UID:3324-1765396800-1765396800@koki-verden.de
SUMMARY:Karla
DESCRIPTION:1962 scheinen die Machtverhältnisse nicht nur zwischen Mann und Frau\, sondern auch zwischen Erwachsenen und Kindern noch wie in Stein gemeißelt. Doch Karla ist da offensichtlich ganz anders gestrickt. Denn die Zwölfjährige will ihren Vater zur Verantwortung ziehen\, weil ihre Sicherheit durch seine Nachlässigkeit nicht mehr gewährleistet war. \nSie erhebt schwere Vorwürfe\, die schließlich sogar vor Gericht landen. Der Richter Lamy erkennt die prekäre Situation und entpuppt sich während des Prozesses als Fels in der Brandung für Karla. Auch seine Sekretärin Frau Steinberg steht Karla zur Seite\, während die mutig ihr Wort erhebt und Gerechtigkeit für sich verlangt. \nD 2025\, 104 Min. \n \ntwittern teilen mitteilen 
URL:http://koki-verden.de/event/karla/
LOCATION:Cine City Verden\, Zollstraße 1\, Verden\, 27283\, Deutschland
END:VEVENT
BEGIN:VEVENT
DTSTART;TZID=Europe/Paris:20251214T143000
DTEND;TZID=Europe/Paris:20251214T143000
DTSTAMP:20260424T041540
CREATED:20251020T104808Z
LAST-MODIFIED:20251207T153328Z
UID:3328-1765722600-1765722600@koki-verden.de
SUMMARY:KINDERFILM: Lauras Stern - Eintritt frei
DESCRIPTION:Mit ihren Eltern und ihrem Bruder zieht Laura in eine neue Stadt. Alles ist unbekannt und neue Freunde findet sie nicht so leicht. \nAls sie eines Abends aus dem Fenster schaut\, sieht sie einen Stern vom Himmel fallen und findet ihn kurz darauf  mit einem abgebrochenen Zacken. Laura verarztet den Stern mit einem Pflaster. Die beiden werden Freunde und erleben viele magische Abenteuer\, in denen sich die Wünsche von Laura erfüllen\, und sie fühlt sich nicht mehr einsam. \nDer Himmelsbewohner bekommt jedoch zunehmend Heimweh und die beiden müssen sich trennen\, aber Laura möchte den neuen Freund nicht verlieren. \nUnseren Weihnachtsfilm zeigen wir in Kooperation mit dem Rotary Club Verden/Aller. \nD 2021\, 79 Min. \n \ntwittern teilen mitteilen 
URL:http://koki-verden.de/event/kinderfilm-lauras-stern/
LOCATION:Cine City Verden\, Zollstraße 1\, Verden\, 27283\, Deutschland
END:VEVENT
BEGIN:VEVENT
DTSTART;TZID=Europe/Paris:20251217T200000
DTEND;TZID=Europe/Paris:20251217T200000
DTSTAMP:20260424T041540
CREATED:20251020T104311Z
LAST-MODIFIED:20251020T104311Z
UID:3326-1766001600-1766001600@koki-verden.de
SUMMARY:Das tiefste Blau
DESCRIPTION:Die mittlerweile 77 Jahre alte Tereza erhält eines Tages eine behördliche Anordnung: Sie soll ihr bisheriges Leben in einer kleinen Industriestadt mitten im Amazonasgebiet aufgeben und in eine Seniorenkolonie umsiedeln. Doch das sieht Tereza gar nicht ein. \nAnstatt sich diesem fremdbestimmten Schicksal zu fügen\, macht sie sich auf eine Reise durch die Flüsse und Nebenflüsse des Amazonas. Angetrieben von dem Wunsch\, sich noch einen allerletzten Traum im Leben zu erfüllen\, bevor ihre Freiheit endgültig eingeschränkt wird\, begibt sie sich auf eine bewegende Reise in Richtung Selbstbestimmung und -erfüllung. \nAusgezeichnet mit dem Silbernen Bären der Berlinale \nBrasilien 2025\, 87 Min. \n \ntwittern teilen mitteilen 
URL:http://koki-verden.de/event/das-tiefste-blau/
LOCATION:Cine City Verden\, Zollstraße 1\, Verden\, 27283\, Deutschland
END:VEVENT
BEGIN:VEVENT
DTSTART;VALUE=DATE:20251224
DTEND;VALUE=DATE:20260107
DTSTAMP:20260424T041540
CREATED:20251020T105012Z
LAST-MODIFIED:20251020T105100Z
UID:3331-1766534400-1767743999@koki-verden.de
SUMMARY:Weihnachtspause
DESCRIPTION:Zwischen den Jahren macht das Koki Pause. \ntwittern teilen mitteilen 
URL:http://koki-verden.de/event/wihnachtspause/
END:VEVENT
END:VCALENDAR