BEGIN:VCALENDAR
VERSION:2.0
PRODID:-//Kommunalkino Verden e.V. - ECPv6.15.20//NONSGML v1.0//EN
CALSCALE:GREGORIAN
METHOD:PUBLISH
X-WR-CALNAME:Kommunalkino Verden e.V.
X-ORIGINAL-URL:http://koki-verden.de
X-WR-CALDESC:Veranstaltungen für Kommunalkino Verden e.V.
REFRESH-INTERVAL;VALUE=DURATION:PT1H
X-Robots-Tag:noindex
X-PUBLISHED-TTL:PT1H
BEGIN:VTIMEZONE
TZID:Europe/Paris
BEGIN:DAYLIGHT
TZOFFSETFROM:+0100
TZOFFSETTO:+0200
TZNAME:CEST
DTSTART:20240331T010000
END:DAYLIGHT
BEGIN:STANDARD
TZOFFSETFROM:+0200
TZOFFSETTO:+0100
TZNAME:CET
DTSTART:20241027T010000
END:STANDARD
BEGIN:DAYLIGHT
TZOFFSETFROM:+0100
TZOFFSETTO:+0200
TZNAME:CEST
DTSTART:20250330T010000
END:DAYLIGHT
BEGIN:STANDARD
TZOFFSETFROM:+0200
TZOFFSETTO:+0100
TZNAME:CET
DTSTART:20251026T010000
END:STANDARD
BEGIN:DAYLIGHT
TZOFFSETFROM:+0100
TZOFFSETTO:+0200
TZNAME:CEST
DTSTART:20260329T010000
END:DAYLIGHT
BEGIN:STANDARD
TZOFFSETFROM:+0200
TZOFFSETTO:+0100
TZNAME:CET
DTSTART:20261025T010000
END:STANDARD
END:VTIMEZONE
BEGIN:VEVENT
DTSTART;TZID=Europe/Paris:20251105T200000
DTEND;TZID=Europe/Paris:20251105T200000
DTSTAMP:20260424T054331
CREATED:20251014T073924Z
LAST-MODIFIED:20251014T073924Z
UID:3296-1762372800-1762372800@koki-verden.de
SUMMARY:Die guten und die besseren Tage
DESCRIPTION:Nach einem Autounfall verliert Suzanne das Sorgerecht für ihre drei Kinder. Sie hat keine Wahl mehr und muss sich in einem Zentrum für Alkoholiker behandeln lassen. \nGleich bei ihrer Ankunft trifft sie Alice und Diane\, zwei Frauen mit starkem Charakter. Denis\, ein Sportlehrer\, versucht\, sie für ein gemeinsames Ziel zusammenzubringen: die Teilnahme an der Dunes Rally in der marokkanischen Wüste. \nEr muss sich mit viel Geduld und pädagogischem Geschick wappnen\, um diese unwahrscheinliche Crew auf das Erreichen ihres Ziels vorzubereiten. \nFrankreich 2025\, 104 Min. \n \ntwittern teilen mitteilen 
URL:http://koki-verden.de/event/die-guten-und-die-besseren-tage/
LOCATION:Cine City Verden\, Zollstraße 1\, Verden\, 27283\, Deutschland
END:VEVENT
BEGIN:VEVENT
DTSTART;TZID=Europe/Paris:20251109T143000
DTEND;TZID=Europe/Paris:20251109T143000
DTSTAMP:20260424T054331
CREATED:20251014T075648Z
LAST-MODIFIED:20251014T075735Z
UID:3312-1762698600-1762698600@koki-verden.de
SUMMARY:KINDERFILM: Akiko - Der fliegende Affe
DESCRIPTION:Akiko (gespielt vom Affen Monty\, gesprochen von Nellie Thalbach) kennt nur das Leben im Zoo – und von dem hat er genug. Eines Tages macht er Nägel mit Köpfen und bricht aus. Er hat gehört\, dass es einen Wald gibt\, in dem andere Affen in Freiheit leben. Den möchte er unbedingt finden. \nEs dauert nicht lange\, bis sich ihm unterwegs andere tierische Mitstreiter anschließen. Ihnen immer dicht auf den Fersen sind zum Beispiel der Zoowärter (Benno Fürmann)\, die Zoodirektorin (Meret Becker)\, aber auch die Polizei samt ihrer Chefin (Heike Makatsch). \nDie tierische Bande muss sich also einiges einfallen lassen\, um nicht geschnappt zu werden. \nD 2025\, 70 Min. \n \ntwittern teilen mitteilen 
URL:http://koki-verden.de/event/kinderfilm-akiko-der-fliegende-affe/
LOCATION:Cine City Verden\, Zollstraße 1\, Verden\, 27283\, Deutschland
END:VEVENT
BEGIN:VEVENT
DTSTART;TZID=Europe/Paris:20251112T200000
DTEND;TZID=Europe/Paris:20251112T200000
DTSTAMP:20260424T054331
CREATED:20251014T074116Z
LAST-MODIFIED:20251014T074116Z
UID:3302-1762977600-1762977600@koki-verden.de
SUMMARY:Vermiglio
DESCRIPTION:Im italienischen Bergdorf Vermiglio leben drei Schwestern mit ihrem exzentrischen Vater während des Zweiten Weltkriegs. Als der Flüchtlingssoldat Pietro auftaucht\, heiratet die älteste Schwester Lucia ihn und verlässt das gemeinsame Bett mit ihren Schwestern. Die zurückgebliebenen Schwestern fühlen sich benachteiligt und ihre Beziehung zueinander wird zusehends schwieriger. \nAls Pietro am Ende des Krieges eine Reise nach Sizilien unternimmt\, wird Lucia durch einen einzigen Schuss zur Witwe. Doch dieser Schuss wurde von einer anderen Frau abgegeben\, von deren Existenz Lucia nichts wusste. Auf ihrer Suche nach der Wahrheit durchläuft Lucia eine physische und metaphorische Reise und öffnet ihr Herz für das Kind\, das ihre Ehe hervorgebracht hat. \nItalien 2024\, 119 Min. \n \ntwittern teilen mitteilen 
URL:http://koki-verden.de/event/vermiglio/
LOCATION:Cine City Verden\, Zollstraße 1\, Verden\, 27283\, Deutschland
END:VEVENT
BEGIN:VEVENT
DTSTART;TZID=Europe/Paris:20251119T200000
DTEND;TZID=Europe/Paris:20251119T200000
DTSTAMP:20260424T054331
CREATED:20251014T074326Z
LAST-MODIFIED:20251014T074326Z
UID:3304-1763582400-1763582400@koki-verden.de
SUMMARY:Leibniz - Chronik eines verschollenen Bildes
DESCRIPTION:Im Leben der preußischen Königin Charlotte klafft ein großes Loch. Denn Gottfried Wilhelm Leibniz (Edgar Selge)\, einst Charlottes geistreicher Lehrer\, weilt nicht mehr bei ihr am Schloss Lietzenburg. \nUm ihn jedoch nicht nur in bester Erinnerung\, sondern auch rein bildlich im Bewusstsein zu behalten\, gibt sie ein Porträtgemälde von Leibniz in Auftrag. Der lässt sich darauf ein\, doch es dauert\, bis es rund läuft. \nErst\, als Aaltje van de Meer den Auftrag übernimmt\, scheint sich alles zu fügen. Denn die junge Malerin ist Leibniz intellektuell durchaus ebenbürtig. So werden aus den Porträtsitzungen schnell Debattenräume über Kunst und wie Welt. \nDeutschland 2025\, 104 Min. \n \ntwittern teilen mitteilen 
URL:http://koki-verden.de/event/leibniz-chronik-eines-verschollenen-bildes/
LOCATION:Cine City Verden\, Zollstraße 1\, Verden\, 27283\, Deutschland
END:VEVENT
BEGIN:VEVENT
DTSTART;TZID=Europe/Paris:20251126T200000
DTEND;TZID=Europe/Paris:20251126T200000
DTSTAMP:20260424T054331
CREATED:20251014T074505Z
LAST-MODIFIED:20251014T074505Z
UID:3306-1764187200-1764187200@koki-verden.de
SUMMARY:In die Sonne schauen
DESCRIPTION:Ein abgelegener Vierseitenhof in der Altmark\, den einst vier Frauen bewohnten\, deren Leben über verschiedene Jahrzehnten miteinander verknüpft sind. Alma\, Erika\, Angelika  und Nelly – jede von ihnen verbringt ihre Kindheit oder Jugend auf diesem Ort\, doch während sie durch ihre eigene Zeit gehen\, offenbaren sich ihnen Spuren aus der Vergangenheit. \nAlma erfährt\, dass sie nach ihrer verstorbenen Schwester benannt wurde und fürchtet\, ihr Schicksal zu teilen. Erika gerät in den Bann ihres schwer verletzten Onkels und verliert sich in gefährlichen Fantasien. Angelika schwankt zwischen Lebenslust und Todessehnsucht. Nelly wächst in scheinbarer Sicherheit auf\, doch unbewusste Erinnerungen an vergangene Ereignisse verfolgen sie. \nDeutschland 2025\, 149 Min. \n \ntwittern teilen mitteilen 
URL:http://koki-verden.de/event/in-die-sonne-schauen/
LOCATION:Cine City Verden\, Zollstraße 1\, Verden\, 27283\, Deutschland
END:VEVENT
END:VCALENDAR