BEGIN:VCALENDAR
VERSION:2.0
PRODID:-//Kommunalkino Verden e.V. - ECPv6.15.20//NONSGML v1.0//EN
CALSCALE:GREGORIAN
METHOD:PUBLISH
X-ORIGINAL-URL:http://koki-verden.de
X-WR-CALDESC:Veranstaltungen für Kommunalkino Verden e.V.
REFRESH-INTERVAL;VALUE=DURATION:PT1H
X-Robots-Tag:noindex
X-PUBLISHED-TTL:PT1H
BEGIN:VTIMEZONE
TZID:Europe/Paris
BEGIN:DAYLIGHT
TZOFFSETFROM:+0100
TZOFFSETTO:+0200
TZNAME:CEST
DTSTART:20240331T010000
END:DAYLIGHT
BEGIN:STANDARD
TZOFFSETFROM:+0200
TZOFFSETTO:+0100
TZNAME:CET
DTSTART:20241027T010000
END:STANDARD
BEGIN:DAYLIGHT
TZOFFSETFROM:+0100
TZOFFSETTO:+0200
TZNAME:CEST
DTSTART:20250330T010000
END:DAYLIGHT
BEGIN:STANDARD
TZOFFSETFROM:+0200
TZOFFSETTO:+0100
TZNAME:CET
DTSTART:20251026T010000
END:STANDARD
BEGIN:DAYLIGHT
TZOFFSETFROM:+0100
TZOFFSETTO:+0200
TZNAME:CEST
DTSTART:20260329T010000
END:DAYLIGHT
BEGIN:STANDARD
TZOFFSETFROM:+0200
TZOFFSETTO:+0100
TZNAME:CET
DTSTART:20261025T010000
END:STANDARD
END:VTIMEZONE
BEGIN:VEVENT
DTSTART;TZID=Europe/Paris:20251001T200000
DTEND;TZID=Europe/Paris:20251001T200000
DTSTAMP:20260424T071329
CREATED:20250830T085819Z
LAST-MODIFIED:20250830T085819Z
UID:3264-1759348800-1759348800@koki-verden.de
SUMMARY:Vier Mütter für Edward
DESCRIPTION:Edward\, ein Schriftsteller in den Dreißigern\, steht kurz vor dem ersehnten Durchbruch. Neben der Arbeit kümmert er sich hingebungsvoll um seine resolute Mutter\, mit der er unter einem Dach lebt. \nAls sein Verlag ihm eine Lesereise durch die USA anbietet\, gerät sein geordneter Alltag ins Wanken. Denn zeitgleich brechen seine Freunde zu einem spontanen Urlaub auf – und lassen ihre Mütter bei ihm zurück. \nNun sieht sich Edward nicht nur mit beruflichen Entscheidungen konfrontiert\, sondern auch mit dem Chaos\, das vier eigenwillige Frauen unter seinem Dach entfesseln. \nIRL 2022\, 89 Min. \n \ntwittern teilen mitteilen 
URL:http://koki-verden.de/event/vier-muetter-fuer-edward/
LOCATION:Cine City Verden\, Zollstraße 1\, Verden\, 27283\, Deutschland
END:VEVENT
BEGIN:VEVENT
DTSTART;TZID=Europe/Paris:20251008T200000
DTEND;TZID=Europe/Paris:20251008T200000
DTSTAMP:20260424T071329
CREATED:20250830T085958Z
LAST-MODIFIED:20250830T085958Z
UID:3274-1759953600-1759953600@koki-verden.de
SUMMARY:Die Unbeugsamen 2
DESCRIPTION:Der Dokumentarfilmer Torsten Körner richtet seinen Blick auf die Frauen in der DDR. \nBrunhilde Hanke\, ehemalige Oberbürgermeisterin von Potsdam\, Landwirtin Solveig Leo\, DEFA-Regieassistentin Barbara Mädler\, Schriftstellerin Katja Lange-Müller\, Punkerin Gabriele Stötzer\, Friedensaktivistin Ulrike Poppe\, Schauspielerin Katrin Sass\, Schlagzeugerin Tina Powileit\, Metallurgin Karin Seyfarth\, Comiczeichnerin Anke Feuchtenberger\, Zahnarzthelferin Kerstin Bienert und Amrei Bauer als Tochter der Malerin Annemirl Bauer sprechen über ihr Aufwachsen in einem Staat\, der zwar im Gesetz die Gleichberechtigung stehen hatte\, letztlich jedoch von Männern regiert wurde. \nEine Veranstaltung in Kooperation mit dem Lernort Demokratie bei der Stadt Verden und der Gleichstellungsbeauftragten \nD 2024\, 109 Min. \n \n  \ntwittern teilen mitteilen 
URL:http://koki-verden.de/event/die-unbeugsamen-2/
LOCATION:Cine City Verden\, Zollstraße 1\, Verden\, 27283\, Deutschland
END:VEVENT
BEGIN:VEVENT
DTSTART;TZID=Europe/Paris:20251012T143000
DTEND;TZID=Europe/Paris:20251012T143000
DTSTAMP:20260424T071329
CREATED:20250830T090811Z
LAST-MODIFIED:20250830T090811Z
UID:3285-1760279400-1760279400@koki-verden.de
SUMMARY:Kinderfilm: Lioness - Die Löwin
DESCRIPTION:Rosi hat ein perfektes Leben in Suriname: Sie wohnt in einem schönen Haus\, hat viele Freunde und eine Leidenschaft für Fußball – bis sie plötzlich in die Niederlande ziehen muss und sich alles ändert. \nDurch ihre neue beste Freundin Jitte landet sie in der Mädchenfußballmannschaft der Schule. Nicht alle sind darüber glücklich\, denn sie ist besser als die anderen. Wird sie es schaffen\, ihren Traum zu verwirklichen\, eine Orange Lioness zu werden? \nNL 2025\, 85 Min. \n \ntwittern teilen mitteilen 
URL:http://koki-verden.de/event/kinderfilm-lioness-die-loewin/
LOCATION:Cine City Verden\, Zollstraße 1\, Verden\, 27283\, Deutschland
END:VEVENT
BEGIN:VEVENT
DTSTART;TZID=Europe/Paris:20251015T200000
DTEND;TZID=Europe/Paris:20251015T200000
DTSTAMP:20260424T071329
CREATED:20250830T090137Z
LAST-MODIFIED:20250830T090137Z
UID:3276-1760558400-1760558400@koki-verden.de
SUMMARY:Die Farben der Zeit
DESCRIPTION:Vier Cousins und Cousinen\, die sehr unterschiedliche Leben führen\, entdecken\, dass sie eine ziemlich mysteriöse Familiengeschichte teilen. \n1895 verlässt ihre Vorfahrin Adèle\, damals 21 Jahre alt\, ihre Heimatstadt\, um sich in Paris auf die Suche nach ihrer Mutter zu begeben. Sie entdeckt eine Stadt an der Schwelle zur Moderne\, die mit dem Aufkommen der Fotografie und der Geburt der impressionistischen Malerei die Kreativität der neuen Avantgarde beflügelt. \nAls ihre Nachkommen ihre Schritte Stück für Stück immer weiter zurückverfolgen\, enthüllen sie Adèles überraschende Vergangenheit. \nF 2025\, 126 Min. \n \ntwittern teilen mitteilen 
URL:http://koki-verden.de/event/die-farben-der-zeit/
LOCATION:Cine City Verden\, Zollstraße 1\, Verden\, 27283\, Deutschland
END:VEVENT
BEGIN:VEVENT
DTSTART;TZID=Europe/Paris:20251022T200000
DTEND;TZID=Europe/Paris:20251022T200000
DTSTAMP:20260424T071329
CREATED:20250830T090320Z
LAST-MODIFIED:20250830T090320Z
UID:3278-1761163200-1761163200@koki-verden.de
SUMMARY:Wilma will mehr
DESCRIPTION:Wilma (Fritzi Haberlandt) steht vor den Trümmern ihres bisherigen Lebens: Erst verliert sie ihren Job im Elektrohandel\, dann erwischt sie ihren Mann Alex beim Fremdgehen. \nKurzentschlossen packt sie ihre Sachen und reist nach Wien\, wo ihre Jugendliebe Martin als Filialleiter eines Baumarkts arbeitet. Doch die erhoffte warme Wiedersehensfreude bleibt aus und Wilma muss sich mit neuen Rückschlägen arrangieren. \nZwischen Wiener Schmäh\, kuriosen Begegnungen und einem Walzer-Schnellkurs für chinesische Touristen entdeckt sie jedoch nach und nach ihre eigene Stärke. Mit neuer Energie und ungeahntem Lebensmut wagt sie einen Neuanfang. \nD 2025\, 112 Min. \n \ntwittern teilen mitteilen 
URL:http://koki-verden.de/event/wilma-will-mehr/
LOCATION:Cine City Verden\, Zollstraße 1\, Verden\, 27283\, Deutschland
END:VEVENT
BEGIN:VEVENT
DTSTART;TZID=Europe/Paris:20251029T200000
DTEND;TZID=Europe/Paris:20251029T200000
DTSTAMP:20260424T071329
CREATED:20250830T090504Z
LAST-MODIFIED:20250830T090504Z
UID:3280-1761768000-1761768000@koki-verden.de
SUMMARY:Der Phönizische Meisterstreich
DESCRIPTION:Das traditionsreiche Unternehmen einer exzentrischen Familie wird in eine rätselhafte Spionageaffäre verwickelt. \nZsa-Zsa Korda\, das charismatische Familienoberhaupt\, überlebt dabei mehrere Flugzeugabstürze unter ungeklärten Umständen. Die Hinweise verdichten sich\, dass es sich dabei um gezielte Angriffe handelt – offenbar mit dem Ziel\, ihn und sein Lebenswerk zu zerstören. \nInnerhalb der Familie nehmen die Spannungen zu und Misstrauen breitet sich aus\, besonders im Verhältnis von Zsa-Zsa zu seiner Tochter Liesl\, die als Nonne lebt. Gemeinsam begeben sich Vater und Tochter trotzdem auf eine riskante Reise\, bei der ungelöste Konflikte zutage treten und Loyalitäten auf die Probe gestellt werden. \nUSA 2025\, 101 Min. \n \ntwittern teilen mitteilen 
URL:http://koki-verden.de/event/der-phoenizische-meisterstreich/
LOCATION:Cine City Verden\, Zollstraße 1\, Verden\, 27283\, Deutschland
END:VEVENT
END:VCALENDAR