BEGIN:VCALENDAR
VERSION:2.0
PRODID:-//Kommunalkino Verden e.V. - ECPv6.15.20//NONSGML v1.0//EN
CALSCALE:GREGORIAN
METHOD:PUBLISH
X-WR-CALNAME:Kommunalkino Verden e.V.
X-ORIGINAL-URL:http://koki-verden.de
X-WR-CALDESC:Veranstaltungen für Kommunalkino Verden e.V.
REFRESH-INTERVAL;VALUE=DURATION:PT1H
X-Robots-Tag:noindex
X-PUBLISHED-TTL:PT1H
BEGIN:VTIMEZONE
TZID:Europe/Paris
BEGIN:DAYLIGHT
TZOFFSETFROM:+0100
TZOFFSETTO:+0200
TZNAME:CEST
DTSTART:20250330T010000
END:DAYLIGHT
BEGIN:STANDARD
TZOFFSETFROM:+0200
TZOFFSETTO:+0100
TZNAME:CET
DTSTART:20251026T010000
END:STANDARD
BEGIN:DAYLIGHT
TZOFFSETFROM:+0100
TZOFFSETTO:+0200
TZNAME:CEST
DTSTART:20260329T010000
END:DAYLIGHT
BEGIN:STANDARD
TZOFFSETFROM:+0200
TZOFFSETTO:+0100
TZNAME:CET
DTSTART:20261025T010000
END:STANDARD
BEGIN:DAYLIGHT
TZOFFSETFROM:+0100
TZOFFSETTO:+0200
TZNAME:CEST
DTSTART:20270328T010000
END:DAYLIGHT
BEGIN:STANDARD
TZOFFSETFROM:+0200
TZOFFSETTO:+0100
TZNAME:CET
DTSTART:20271031T010000
END:STANDARD
END:VTIMEZONE
BEGIN:VEVENT
DTSTART;TZID=Europe/Paris:20260422T200000
DTEND;TZID=Europe/Paris:20260422T200000
DTSTAMP:20260423T235218
CREATED:20260302T115858Z
LAST-MODIFIED:20260302T115858Z
UID:3412-1776888000-1776888000@koki-verden.de
SUMMARY:Bon Voyage
DESCRIPTION:Die 80-jährige Marie\, unheilbar an Krebs erkrankt\, will ihr Leben selbstbestimmt beenden. \nDoch um ihre Familie für eine letzte gemeinsame Reise zu gewinnen\, greift sie zu einer Notlüge: Sie erzählt ihrem unzuverlässigen Sohn Bruno\, ihrer Enkelin Anna und der Pflegekraft Rudy von einem angeblichen Erbe in der Schweiz. \nGemeinsam machen sie sich in Maries altem Wohnmobil auf den Weg. Während die Reise voller unerwarteter Momente und familiärer Spannungen verläuft\, steht Marie vor einer schwierigen Entscheidung – wird sie den Mut aufbringen\, die wahre Bedeutung dieser Reise zu offenbaren? \nF 2025\, 97 Min. \n \ntwittern teilen mitteilen 
URL:http://koki-verden.de/event/bon-voyage/
LOCATION:Cine City Verden\, Zollstraße 1\, Verden\, 27283\, Deutschland
END:VEVENT
END:VCALENDAR