BEGIN:VCALENDAR
VERSION:2.0
PRODID:-//Kommunalkino Verden e.V. - ECPv6.15.20//NONSGML v1.0//EN
CALSCALE:GREGORIAN
METHOD:PUBLISH
X-WR-CALNAME:Kommunalkino Verden e.V.
X-ORIGINAL-URL:http://koki-verden.de
X-WR-CALDESC:Veranstaltungen für Kommunalkino Verden e.V.
REFRESH-INTERVAL;VALUE=DURATION:PT1H
X-Robots-Tag:noindex
X-PUBLISHED-TTL:PT1H
BEGIN:VTIMEZONE
TZID:Europe/Paris
BEGIN:DAYLIGHT
TZOFFSETFROM:+0100
TZOFFSETTO:+0200
TZNAME:CEST
DTSTART:20250330T010000
END:DAYLIGHT
BEGIN:STANDARD
TZOFFSETFROM:+0200
TZOFFSETTO:+0100
TZNAME:CET
DTSTART:20251026T010000
END:STANDARD
BEGIN:DAYLIGHT
TZOFFSETFROM:+0100
TZOFFSETTO:+0200
TZNAME:CEST
DTSTART:20260329T010000
END:DAYLIGHT
BEGIN:STANDARD
TZOFFSETFROM:+0200
TZOFFSETTO:+0100
TZNAME:CET
DTSTART:20261025T010000
END:STANDARD
BEGIN:DAYLIGHT
TZOFFSETFROM:+0100
TZOFFSETTO:+0200
TZNAME:CEST
DTSTART:20270328T010000
END:DAYLIGHT
BEGIN:STANDARD
TZOFFSETFROM:+0200
TZOFFSETTO:+0100
TZNAME:CET
DTSTART:20271031T010000
END:STANDARD
END:VTIMEZONE
BEGIN:VEVENT
DTSTART;TZID=Europe/Paris:20260325T200000
DTEND;TZID=Europe/Paris:20260325T200000
DTSTAMP:20260424T012125
CREATED:20260128T174940Z
LAST-MODIFIED:20260128T174940Z
UID:3391-1774468800-1774468800@koki-verden.de
SUMMARY:Die Möllner Briefe
DESCRIPTION:Im November 1992 wird das Leben von İbrahim Arslan und seiner Familie durch rassistische Brandanschläge in Mölln auf grausame Weise zerstört. \nİbrahim\, damals sieben Jahre alt\, überlebt die Katastrophe\, verliert jedoch seine Schwester\, seine Cousine und seine Großmutter. Jahre später tauchen Hunderte von Solidaritätsschreiben auf\, die unmittelbar nach dem Anschlag an die Stadt geschickt wurden\, aber über Jahrzehnte unbeachtet blieben. \nİbrahim begibt sich auf eine bewegende Erinnerungsreise\, bei der er mit drei Menschen zusammentrifft\, die damals Briefe geschrieben haben. Diese Begegnungen eröffnen einen intensiven Austausch über Verlust\, Solidarität und die Frage\, wie eine Gesellschaft mit Gewalt und Diskriminierung umgeht. \nDeutschland 2025\, 96 Min. \nIn Kooperation mit dem Lernort Demokratie im Syndikatshof der Stadt Verden \n \ntwittern teilen mitteilen 
URL:http://koki-verden.de/event/die-moellner-briefe/
LOCATION:Cine City Verden\, Zollstraße 1\, Verden\, 27283\, Deutschland
END:VEVENT
END:VCALENDAR