BEGIN:VCALENDAR
VERSION:2.0
PRODID:-//Kommunalkino Verden e.V. - ECPv6.15.20//NONSGML v1.0//EN
CALSCALE:GREGORIAN
METHOD:PUBLISH
X-ORIGINAL-URL:http://koki-verden.de
X-WR-CALDESC:Veranstaltungen für Kommunalkino Verden e.V.
REFRESH-INTERVAL;VALUE=DURATION:PT1H
X-Robots-Tag:noindex
X-PUBLISHED-TTL:PT1H
BEGIN:VTIMEZONE
TZID:Europe/Paris
BEGIN:DAYLIGHT
TZOFFSETFROM:+0100
TZOFFSETTO:+0200
TZNAME:CEST
DTSTART:20250330T010000
END:DAYLIGHT
BEGIN:STANDARD
TZOFFSETFROM:+0200
TZOFFSETTO:+0100
TZNAME:CET
DTSTART:20251026T010000
END:STANDARD
BEGIN:DAYLIGHT
TZOFFSETFROM:+0100
TZOFFSETTO:+0200
TZNAME:CEST
DTSTART:20260329T010000
END:DAYLIGHT
BEGIN:STANDARD
TZOFFSETFROM:+0200
TZOFFSETTO:+0100
TZNAME:CET
DTSTART:20261025T010000
END:STANDARD
BEGIN:DAYLIGHT
TZOFFSETFROM:+0100
TZOFFSETTO:+0200
TZNAME:CEST
DTSTART:20270328T010000
END:DAYLIGHT
BEGIN:STANDARD
TZOFFSETFROM:+0200
TZOFFSETTO:+0100
TZNAME:CET
DTSTART:20271031T010000
END:STANDARD
END:VTIMEZONE
BEGIN:VEVENT
DTSTART;TZID=Europe/Paris:20260311T200000
DTEND;TZID=Europe/Paris:20260311T200000
DTSTAMP:20260424T012303
CREATED:20260128T174351Z
LAST-MODIFIED:20260128T174351Z
UID:3387-1773259200-1773259200@koki-verden.de
SUMMARY:Die Stimme von Hind Rajab
DESCRIPTION:Ein Notruf erreicht die Rettungskräfte des Roten Halbmonds im Januar 2024: Ein sechs Jahre altes Mädchen ist bei der Flucht aus Gaza-Stadt in einem von der israelischen Armee unter Beschuss geratenen Auto eingeschlossen. Mit im Fahrzeug saßen auch Onkel\, Tanten und deren Kinder. Doch sie haben den Angriff nicht überlebt. \nAm Telefon versuchen die Helfer\, sie zu beruhigen und gleichzeitig einen Rettungseinsatz zu koordinieren. Unter schwierigsten Bedingungen setzen die Einsatzkräfte alles daran\, Hilfe zum Autowrack zu schicken und das Kind zu erreichen\, bevor noch Schlimmeres geschieht. Doch um das Mädchen zu retten\, müssen sich die Helfer selbst in akute Lebensgefahr begeben. \nTunesien\, F 2025\, 89 Min. \n \ntwittern teilen mitteilen 
URL:http://koki-verden.de/event/die-stimme-von-hind-rajab/
LOCATION:Cine City Verden\, Zollstraße 1\, Verden\, 27283\, Deutschland
END:VEVENT
END:VCALENDAR