BEGIN:VCALENDAR
VERSION:2.0
PRODID:-//Kommunalkino Verden e.V. - ECPv6.15.20//NONSGML v1.0//EN
CALSCALE:GREGORIAN
METHOD:PUBLISH
X-ORIGINAL-URL:http://koki-verden.de
X-WR-CALDESC:Veranstaltungen für Kommunalkino Verden e.V.
REFRESH-INTERVAL;VALUE=DURATION:PT1H
X-Robots-Tag:noindex
X-PUBLISHED-TTL:PT1H
BEGIN:VTIMEZONE
TZID:Europe/Paris
BEGIN:DAYLIGHT
TZOFFSETFROM:+0100
TZOFFSETTO:+0200
TZNAME:CEST
DTSTART:20250330T010000
END:DAYLIGHT
BEGIN:STANDARD
TZOFFSETFROM:+0200
TZOFFSETTO:+0100
TZNAME:CET
DTSTART:20251026T010000
END:STANDARD
BEGIN:DAYLIGHT
TZOFFSETFROM:+0100
TZOFFSETTO:+0200
TZNAME:CEST
DTSTART:20260329T010000
END:DAYLIGHT
BEGIN:STANDARD
TZOFFSETFROM:+0200
TZOFFSETTO:+0100
TZNAME:CET
DTSTART:20261025T010000
END:STANDARD
BEGIN:DAYLIGHT
TZOFFSETFROM:+0100
TZOFFSETTO:+0200
TZNAME:CEST
DTSTART:20270328T010000
END:DAYLIGHT
BEGIN:STANDARD
TZOFFSETFROM:+0200
TZOFFSETTO:+0100
TZNAME:CET
DTSTART:20271031T010000
END:STANDARD
END:VTIMEZONE
BEGIN:VEVENT
DTSTART;TZID=Europe/Paris:20260304T200000
DTEND;TZID=Europe/Paris:20260304T200000
DTSTAMP:20260424T012203
CREATED:20260128T174113Z
LAST-MODIFIED:20260128T174113Z
UID:3381-1772654400-1772654400@koki-verden.de
SUMMARY:Der Fremde
DESCRIPTION:Im Algerien der 1930er Jahre lebt der Franzose Meursault. Gleichgültig gegenüber gesellschaftlichen Erwartungen und persönlichen Beziehungen scheint ihn selbst die Beerdigung seiner Mutter nicht zu rühren. \nAm darauffolgenden Tag lässt er sich auf eine Affäre mit Marie\, einer früheren Arbeitskollegin\, ein. Doch wirklich etwas in Bewegung setzen kann bei Meursault erst sein Nachbar Raymond. Doch dieser ist in finstere Dinge verwickelt und zieht schließlich auch Meursault mit auf die dunkle Seite. Dadurch wird er gezwungen\, die Haltung zu seinem Leben zu überdenken. \nFrankreich 2025\, 123 Min. \nNach dem Roman von Albert Camus \n \ntwittern teilen mitteilen 
URL:http://koki-verden.de/event/der-fremde/
LOCATION:Cine City Verden\, Zollstraße 1\, Verden\, 27283\, Deutschland
END:VEVENT
END:VCALENDAR