BEGIN:VCALENDAR
VERSION:2.0
PRODID:-//Kommunalkino Verden e.V. - ECPv6.15.20//NONSGML v1.0//EN
CALSCALE:GREGORIAN
METHOD:PUBLISH
X-WR-CALNAME:Kommunalkino Verden e.V.
X-ORIGINAL-URL:http://koki-verden.de
X-WR-CALDESC:Veranstaltungen für Kommunalkino Verden e.V.
REFRESH-INTERVAL;VALUE=DURATION:PT1H
X-Robots-Tag:noindex
X-PUBLISHED-TTL:PT1H
BEGIN:VTIMEZONE
TZID:Europe/Paris
BEGIN:DAYLIGHT
TZOFFSETFROM:+0100
TZOFFSETTO:+0200
TZNAME:CEST
DTSTART:20250330T010000
END:DAYLIGHT
BEGIN:STANDARD
TZOFFSETFROM:+0200
TZOFFSETTO:+0100
TZNAME:CET
DTSTART:20251026T010000
END:STANDARD
BEGIN:DAYLIGHT
TZOFFSETFROM:+0100
TZOFFSETTO:+0200
TZNAME:CEST
DTSTART:20260329T010000
END:DAYLIGHT
BEGIN:STANDARD
TZOFFSETFROM:+0200
TZOFFSETTO:+0100
TZNAME:CET
DTSTART:20261025T010000
END:STANDARD
BEGIN:DAYLIGHT
TZOFFSETFROM:+0100
TZOFFSETTO:+0200
TZNAME:CEST
DTSTART:20270328T010000
END:DAYLIGHT
BEGIN:STANDARD
TZOFFSETFROM:+0200
TZOFFSETTO:+0100
TZNAME:CET
DTSTART:20271031T010000
END:STANDARD
END:VTIMEZONE
BEGIN:VEVENT
DTSTART;TZID=Europe/Paris:20260225T200000
DTEND;TZID=Europe/Paris:20260225T200000
DTSTAMP:20260424T012128
CREATED:20260112T163720Z
LAST-MODIFIED:20260112T163720Z
UID:3374-1772049600-1772049600@koki-verden.de
SUMMARY:The Mastermind
DESCRIPTION:Im Jahr 1970 gelingt dem arbeitslosen Tischler James Blaine Mooney (Josh O’Connor) gemeinsam mit zwei Komplizen ein dreister Einbruch in ein Museum. Bei Tageslicht entwenden sie vier Gemälde. \nDoch der spektakuläre Kunstraub ist erst der Anfang. Die vermeintliche Beute wird zur Belastung und Mooney sieht sich gezwungen\, ein Leben auf der Flucht zu führen. \nEingebettet in eine Ära des gesellschaftlichen Wandels – geprägt vom Vietnamkrieg und der wachsenden Frauenbewegung – entfaltet sich die Geschichte eines Mannes\, der zwischen Kunst\, Kriminalität und den Umbrüchen der Zeit seinen Platz sucht. \nUSA 2025\, 110 Min. \n \ntwittern teilen mitteilen 
URL:http://koki-verden.de/event/the-mastermind/
LOCATION:Cine City Verden\, Zollstraße 1\, Verden\, 27283\, Deutschland
END:VEVENT
END:VCALENDAR