BEGIN:VCALENDAR
VERSION:2.0
PRODID:-//Kommunalkino Verden e.V. - ECPv6.15.20//NONSGML v1.0//EN
CALSCALE:GREGORIAN
METHOD:PUBLISH
X-ORIGINAL-URL:http://koki-verden.de
X-WR-CALDESC:Veranstaltungen für Kommunalkino Verden e.V.
REFRESH-INTERVAL;VALUE=DURATION:PT1H
X-Robots-Tag:noindex
X-PUBLISHED-TTL:PT1H
BEGIN:VTIMEZONE
TZID:Europe/Paris
BEGIN:DAYLIGHT
TZOFFSETFROM:+0100
TZOFFSETTO:+0200
TZNAME:CEST
DTSTART:20250330T010000
END:DAYLIGHT
BEGIN:STANDARD
TZOFFSETFROM:+0200
TZOFFSETTO:+0100
TZNAME:CET
DTSTART:20251026T010000
END:STANDARD
BEGIN:DAYLIGHT
TZOFFSETFROM:+0100
TZOFFSETTO:+0200
TZNAME:CEST
DTSTART:20260329T010000
END:DAYLIGHT
BEGIN:STANDARD
TZOFFSETFROM:+0200
TZOFFSETTO:+0100
TZNAME:CET
DTSTART:20261025T010000
END:STANDARD
BEGIN:DAYLIGHT
TZOFFSETFROM:+0100
TZOFFSETTO:+0200
TZNAME:CEST
DTSTART:20270328T010000
END:DAYLIGHT
BEGIN:STANDARD
TZOFFSETFROM:+0200
TZOFFSETTO:+0100
TZNAME:CET
DTSTART:20271031T010000
END:STANDARD
END:VTIMEZONE
BEGIN:VEVENT
DTSTART;TZID=Europe/Paris:20260211T200000
DTEND;TZID=Europe/Paris:20260211T200000
DTSTAMP:20260424T025140
CREATED:20260112T163356Z
LAST-MODIFIED:20260112T163356Z
UID:3370-1770840000-1770840000@koki-verden.de
SUMMARY:Stiller
DESCRIPTION:Der Amerikaner James Larkin White gerät in der Schweiz in eine unerwartete Situation\, als er fälschlicherweise für den vor einigen Jahren verschwundenen Bildhauer Anatol Stiller gehalten und verhaftet wird\, weil der in eine politische Affäre verwickelt sein soll. \nWährend der Ermittlungen wird auch Stillers Ehefrau Julika mit herangezogen. Sie soll überprüfen\, ob James tatsächlich der ist\, der er behauptet zu sein. Mit jeder Annäherung zwischen den beiden kommen immer mehr Fragen nach der wahren Identität des geheimnisvollen Amerikaners auf. \nSchweiz\, D 2025\, 99 Min. \nNach dem Roman von Max Frisch \n \ntwittern teilen mitteilen 
URL:http://koki-verden.de/event/stiller/
LOCATION:Cine City Verden\, Zollstraße 1\, Verden\, 27283\, Deutschland
END:VEVENT
END:VCALENDAR