BEGIN:VCALENDAR
VERSION:2.0
PRODID:-//Kommunalkino Verden e.V. - ECPv6.15.20//NONSGML v1.0//EN
CALSCALE:GREGORIAN
METHOD:PUBLISH
X-ORIGINAL-URL:http://koki-verden.de
X-WR-CALDESC:Veranstaltungen für Kommunalkino Verden e.V.
REFRESH-INTERVAL;VALUE=DURATION:PT1H
X-Robots-Tag:noindex
X-PUBLISHED-TTL:PT1H
BEGIN:VTIMEZONE
TZID:Europe/Paris
BEGIN:DAYLIGHT
TZOFFSETFROM:+0100
TZOFFSETTO:+0200
TZNAME:CEST
DTSTART:20250330T010000
END:DAYLIGHT
BEGIN:STANDARD
TZOFFSETFROM:+0200
TZOFFSETTO:+0100
TZNAME:CET
DTSTART:20251026T010000
END:STANDARD
BEGIN:DAYLIGHT
TZOFFSETFROM:+0100
TZOFFSETTO:+0200
TZNAME:CEST
DTSTART:20260329T010000
END:DAYLIGHT
BEGIN:STANDARD
TZOFFSETFROM:+0200
TZOFFSETTO:+0100
TZNAME:CET
DTSTART:20261025T010000
END:STANDARD
BEGIN:DAYLIGHT
TZOFFSETFROM:+0100
TZOFFSETTO:+0200
TZNAME:CEST
DTSTART:20270328T010000
END:DAYLIGHT
BEGIN:STANDARD
TZOFFSETFROM:+0200
TZOFFSETTO:+0100
TZNAME:CET
DTSTART:20271031T010000
END:STANDARD
END:VTIMEZONE
BEGIN:VEVENT
DTSTART;TZID=Europe/Paris:20260204T200000
DTEND;TZID=Europe/Paris:20260204T200000
DTSTAMP:20260424T025058
CREATED:20260112T163206Z
LAST-MODIFIED:20260112T163206Z
UID:3364-1770235200-1770235200@koki-verden.de
SUMMARY:Ganzer halber Bruder
DESCRIPTION:Thomas (Christoph Maria Herbst) wird mit einer überraschenden Nachricht konfrontiert: Eine ihm unbekannte Mutter hat ihm ein Haus hinterlassen. \nDoch in dem Haus lebt bereits sein Halbbruder Roland. Dieser ist nicht nur Oldie- und Kraftsportfan\, sondern hat auch Trisomie 21 – und ein lebenslanges Wohnrecht. Thomas zieht kurzerhand ein und versucht mit allen Tricks\, den Mitbewohner loszuwerden. Doch Roland begegnet ihm mit Entschlossenheit\, Offenheit und überraschender Stärke. Schritt für Schritt wächst zwischen den ungleichen Brüdern eine tiefe Verbindung. \nDeutschland 2025\, 102 Min. \nIn Kooperation mit der Stadt Verden\n(Abteilung Inklusion und Integration) \n \ntwittern teilen mitteilen 
URL:http://koki-verden.de/event/ganzer-halber-bruder/
LOCATION:Cine City Verden\, Zollstraße 1\, Verden\, 27283\, Deutschland
END:VEVENT
END:VCALENDAR