BEGIN:VCALENDAR
VERSION:2.0
PRODID:-//Kommunalkino Verden e.V. - ECPv6.15.20//NONSGML v1.0//EN
CALSCALE:GREGORIAN
METHOD:PUBLISH
X-WR-CALNAME:Kommunalkino Verden e.V.
X-ORIGINAL-URL:http://koki-verden.de
X-WR-CALDESC:Veranstaltungen für Kommunalkino Verden e.V.
REFRESH-INTERVAL;VALUE=DURATION:PT1H
X-Robots-Tag:noindex
X-PUBLISHED-TTL:PT1H
BEGIN:VTIMEZONE
TZID:Europe/Paris
BEGIN:DAYLIGHT
TZOFFSETFROM:+0100
TZOFFSETTO:+0200
TZNAME:CEST
DTSTART:20250330T010000
END:DAYLIGHT
BEGIN:STANDARD
TZOFFSETFROM:+0200
TZOFFSETTO:+0100
TZNAME:CET
DTSTART:20251026T010000
END:STANDARD
BEGIN:DAYLIGHT
TZOFFSETFROM:+0100
TZOFFSETTO:+0200
TZNAME:CEST
DTSTART:20260329T010000
END:DAYLIGHT
BEGIN:STANDARD
TZOFFSETFROM:+0200
TZOFFSETTO:+0100
TZNAME:CET
DTSTART:20261025T010000
END:STANDARD
BEGIN:DAYLIGHT
TZOFFSETFROM:+0100
TZOFFSETTO:+0200
TZNAME:CEST
DTSTART:20270328T010000
END:DAYLIGHT
BEGIN:STANDARD
TZOFFSETFROM:+0200
TZOFFSETTO:+0100
TZNAME:CET
DTSTART:20271031T010000
END:STANDARD
END:VTIMEZONE
BEGIN:VEVENT
DTSTART;TZID=Europe/Paris:20260121T200000
DTEND;TZID=Europe/Paris:20260121T200000
DTSTAMP:20260424T041356
CREATED:20251128T091736Z
LAST-MODIFIED:20251128T091736Z
UID:3346-1769025600-1769025600@koki-verden.de
SUMMARY:The Change
DESCRIPTION:Familie Taylor\, angeführt von Professorin Ellen und ihrem Mann\, Sternekoch Paul\, feiert ihren 25. Hochzeitstag. \nDie Feierlichkeiten geraten ins Wanken\, als ihr Sohn Josh seine neue Freundin Liz vorstellt. Ellen erkennt in Liz sofort eine ehemalige Studentin wieder\, die sie einst wegen ihrer kontroversen Ansichten von der Universität verwies. \nUnd mittlerweile ist Liz eine der treibenden Kräfte hinter einer landesweiten\, radikalen Bewegung namens „The Change“. Sie ist fest entschlossen\, das politische System Amerikas umzugestalten und schreckt dabei vor nichts zurück. \nEllens Familie wird in einen Strudel aus Loyalitätskonflikten und Ideologiekämpfen gezogen. Bald muss sich die Mutter nicht nur um den Zusammenhalt ihrer eigenen Familie sorgen\, sondern auch um die grundlegenden Werte ihres Landes. \nUSA 2025\, 111 Min. \n \ntwittern teilen mitteilen 
URL:http://koki-verden.de/event/the-change/
LOCATION:Cine City Verden\, Zollstraße 1\, Verden\, 27283\, Deutschland
END:VEVENT
END:VCALENDAR