BEGIN:VCALENDAR
VERSION:2.0
PRODID:-//Kommunalkino Verden e.V. - ECPv6.15.20//NONSGML v1.0//EN
CALSCALE:GREGORIAN
METHOD:PUBLISH
X-ORIGINAL-URL:http://koki-verden.de
X-WR-CALDESC:Veranstaltungen für Kommunalkino Verden e.V.
REFRESH-INTERVAL;VALUE=DURATION:PT1H
X-Robots-Tag:noindex
X-PUBLISHED-TTL:PT1H
BEGIN:VTIMEZONE
TZID:Europe/Paris
BEGIN:DAYLIGHT
TZOFFSETFROM:+0100
TZOFFSETTO:+0200
TZNAME:CEST
DTSTART:20250330T010000
END:DAYLIGHT
BEGIN:STANDARD
TZOFFSETFROM:+0200
TZOFFSETTO:+0100
TZNAME:CET
DTSTART:20251026T010000
END:STANDARD
BEGIN:DAYLIGHT
TZOFFSETFROM:+0100
TZOFFSETTO:+0200
TZNAME:CEST
DTSTART:20260329T010000
END:DAYLIGHT
BEGIN:STANDARD
TZOFFSETFROM:+0200
TZOFFSETTO:+0100
TZNAME:CET
DTSTART:20261025T010000
END:STANDARD
BEGIN:DAYLIGHT
TZOFFSETFROM:+0100
TZOFFSETTO:+0200
TZNAME:CEST
DTSTART:20270328T010000
END:DAYLIGHT
BEGIN:STANDARD
TZOFFSETFROM:+0200
TZOFFSETTO:+0100
TZNAME:CET
DTSTART:20271031T010000
END:STANDARD
END:VTIMEZONE
BEGIN:VEVENT
DTSTART;TZID=Europe/Paris:20260114T200000
DTEND;TZID=Europe/Paris:20260114T200000
DTSTAMP:20260424T041711
CREATED:20251128T091520Z
LAST-MODIFIED:20251128T091520Z
UID:3344-1768420800-1768420800@koki-verden.de
SUMMARY:Dann passiert das Leben
DESCRIPTION:Hans (Ulrich Tukur) ist ein Schuldirektor kurz vor dem Ruhestand. Doch während seine Pensionierung immer näher rückt\, empfinden er und seine Frau Rita (Anke Engelke) statt Freude einfach nur die pure Angst. \nNach 35 Jahren Ehe stehen sie vor der Herausforderung\, sich mit ihrer einst leidenschaftlichen\, aber mittlerweile eingefahrenen Beziehung auseinanderzusetzen. Der gemeinsame Sohn hat das Nest schon lange verlassen\, Hans und Rita sind nun also wirklich die ganze Zeit alleine miteinander. Besonders Rita kommt mit dieser Umstellung nicht so gut klar. \nDann passiert auch noch ein tragischer Unfall\, der sowieso alles verändert und den Blick in die Zukunft trübt. \nDeutschland 2025\, 123 Min. \n \ntwittern teilen mitteilen 
URL:http://koki-verden.de/event/dann-passiert-das-leben/
LOCATION:Cine City Verden\, Zollstraße 1\, Verden\, 27283\, Deutschland
END:VEVENT
END:VCALENDAR