BEGIN:VCALENDAR
VERSION:2.0
PRODID:-//Kommunalkino Verden e.V. - ECPv6.15.20//NONSGML v1.0//EN
CALSCALE:GREGORIAN
METHOD:PUBLISH
X-WR-CALNAME:Kommunalkino Verden e.V.
X-ORIGINAL-URL:http://koki-verden.de
X-WR-CALDESC:Veranstaltungen für Kommunalkino Verden e.V.
REFRESH-INTERVAL;VALUE=DURATION:PT1H
X-Robots-Tag:noindex
X-PUBLISHED-TTL:PT1H
BEGIN:VTIMEZONE
TZID:Europe/Paris
BEGIN:DAYLIGHT
TZOFFSETFROM:+0100
TZOFFSETTO:+0200
TZNAME:CEST
DTSTART:20240331T010000
END:DAYLIGHT
BEGIN:STANDARD
TZOFFSETFROM:+0200
TZOFFSETTO:+0100
TZNAME:CET
DTSTART:20241027T010000
END:STANDARD
BEGIN:DAYLIGHT
TZOFFSETFROM:+0100
TZOFFSETTO:+0200
TZNAME:CEST
DTSTART:20250330T010000
END:DAYLIGHT
BEGIN:STANDARD
TZOFFSETFROM:+0200
TZOFFSETTO:+0100
TZNAME:CET
DTSTART:20251026T010000
END:STANDARD
BEGIN:DAYLIGHT
TZOFFSETFROM:+0100
TZOFFSETTO:+0200
TZNAME:CEST
DTSTART:20260329T010000
END:DAYLIGHT
BEGIN:STANDARD
TZOFFSETFROM:+0200
TZOFFSETTO:+0100
TZNAME:CET
DTSTART:20261025T010000
END:STANDARD
END:VTIMEZONE
BEGIN:VEVENT
DTSTART;TZID=Europe/Paris:20251112T200000
DTEND;TZID=Europe/Paris:20251112T200000
DTSTAMP:20260424T071144
CREATED:20251014T074116Z
LAST-MODIFIED:20251014T074116Z
UID:3302-1762977600-1762977600@koki-verden.de
SUMMARY:Vermiglio
DESCRIPTION:Im italienischen Bergdorf Vermiglio leben drei Schwestern mit ihrem exzentrischen Vater während des Zweiten Weltkriegs. Als der Flüchtlingssoldat Pietro auftaucht\, heiratet die älteste Schwester Lucia ihn und verlässt das gemeinsame Bett mit ihren Schwestern. Die zurückgebliebenen Schwestern fühlen sich benachteiligt und ihre Beziehung zueinander wird zusehends schwieriger. \nAls Pietro am Ende des Krieges eine Reise nach Sizilien unternimmt\, wird Lucia durch einen einzigen Schuss zur Witwe. Doch dieser Schuss wurde von einer anderen Frau abgegeben\, von deren Existenz Lucia nichts wusste. Auf ihrer Suche nach der Wahrheit durchläuft Lucia eine physische und metaphorische Reise und öffnet ihr Herz für das Kind\, das ihre Ehe hervorgebracht hat. \nItalien 2024\, 119 Min. \n \ntwittern teilen mitteilen 
URL:http://koki-verden.de/event/vermiglio/
LOCATION:Cine City Verden\, Zollstraße 1\, Verden\, 27283\, Deutschland
END:VEVENT
END:VCALENDAR