BEGIN:VCALENDAR
VERSION:2.0
PRODID:-//Kommunalkino Verden e.V. - ECPv6.15.20//NONSGML v1.0//EN
CALSCALE:GREGORIAN
METHOD:PUBLISH
X-WR-CALNAME:Kommunalkino Verden e.V.
X-ORIGINAL-URL:http://koki-verden.de
X-WR-CALDESC:Veranstaltungen für Kommunalkino Verden e.V.
REFRESH-INTERVAL;VALUE=DURATION:PT1H
X-Robots-Tag:noindex
X-PUBLISHED-TTL:PT1H
BEGIN:VTIMEZONE
TZID:Europe/Paris
BEGIN:DAYLIGHT
TZOFFSETFROM:+0100
TZOFFSETTO:+0200
TZNAME:CEST
DTSTART:20240331T010000
END:DAYLIGHT
BEGIN:STANDARD
TZOFFSETFROM:+0200
TZOFFSETTO:+0100
TZNAME:CET
DTSTART:20241027T010000
END:STANDARD
BEGIN:DAYLIGHT
TZOFFSETFROM:+0100
TZOFFSETTO:+0200
TZNAME:CEST
DTSTART:20250330T010000
END:DAYLIGHT
BEGIN:STANDARD
TZOFFSETFROM:+0200
TZOFFSETTO:+0100
TZNAME:CET
DTSTART:20251026T010000
END:STANDARD
BEGIN:DAYLIGHT
TZOFFSETFROM:+0100
TZOFFSETTO:+0200
TZNAME:CEST
DTSTART:20260329T010000
END:DAYLIGHT
BEGIN:STANDARD
TZOFFSETFROM:+0200
TZOFFSETTO:+0100
TZNAME:CET
DTSTART:20261025T010000
END:STANDARD
END:VTIMEZONE
BEGIN:VEVENT
DTSTART;TZID=Europe/Paris:20251015T200000
DTEND;TZID=Europe/Paris:20251015T200000
DTSTAMP:20260424T084458
CREATED:20250830T090137Z
LAST-MODIFIED:20250830T090137Z
UID:3276-1760558400-1760558400@koki-verden.de
SUMMARY:Die Farben der Zeit
DESCRIPTION:Vier Cousins und Cousinen\, die sehr unterschiedliche Leben führen\, entdecken\, dass sie eine ziemlich mysteriöse Familiengeschichte teilen. \n1895 verlässt ihre Vorfahrin Adèle\, damals 21 Jahre alt\, ihre Heimatstadt\, um sich in Paris auf die Suche nach ihrer Mutter zu begeben. Sie entdeckt eine Stadt an der Schwelle zur Moderne\, die mit dem Aufkommen der Fotografie und der Geburt der impressionistischen Malerei die Kreativität der neuen Avantgarde beflügelt. \nAls ihre Nachkommen ihre Schritte Stück für Stück immer weiter zurückverfolgen\, enthüllen sie Adèles überraschende Vergangenheit. \nF 2025\, 126 Min. \n \ntwittern teilen mitteilen 
URL:http://koki-verden.de/event/die-farben-der-zeit/
LOCATION:Cine City Verden\, Zollstraße 1\, Verden\, 27283\, Deutschland
END:VEVENT
END:VCALENDAR