BEGIN:VCALENDAR
VERSION:2.0
PRODID:-//Kommunalkino Verden e.V. - ECPv6.15.20//NONSGML v1.0//EN
CALSCALE:GREGORIAN
METHOD:PUBLISH
X-ORIGINAL-URL:http://koki-verden.de
X-WR-CALDESC:Veranstaltungen für Kommunalkino Verden e.V.
REFRESH-INTERVAL;VALUE=DURATION:PT1H
X-Robots-Tag:noindex
X-PUBLISHED-TTL:PT1H
BEGIN:VTIMEZONE
TZID:Europe/Paris
BEGIN:DAYLIGHT
TZOFFSETFROM:+0100
TZOFFSETTO:+0200
TZNAME:CEST
DTSTART:20240331T010000
END:DAYLIGHT
BEGIN:STANDARD
TZOFFSETFROM:+0200
TZOFFSETTO:+0100
TZNAME:CET
DTSTART:20241027T010000
END:STANDARD
BEGIN:DAYLIGHT
TZOFFSETFROM:+0100
TZOFFSETTO:+0200
TZNAME:CEST
DTSTART:20250330T010000
END:DAYLIGHT
BEGIN:STANDARD
TZOFFSETFROM:+0200
TZOFFSETTO:+0100
TZNAME:CET
DTSTART:20251026T010000
END:STANDARD
BEGIN:DAYLIGHT
TZOFFSETFROM:+0100
TZOFFSETTO:+0200
TZNAME:CEST
DTSTART:20260329T010000
END:DAYLIGHT
BEGIN:STANDARD
TZOFFSETFROM:+0200
TZOFFSETTO:+0100
TZNAME:CET
DTSTART:20261025T010000
END:STANDARD
END:VTIMEZONE
BEGIN:VEVENT
DTSTART;TZID=Europe/Paris:20250910T200000
DTEND;TZID=Europe/Paris:20250910T200000
DTSTAMP:20260424T102139
CREATED:20250702T084942Z
LAST-MODIFIED:20250702T085403Z
UID:3242-1757534400-1757534400@koki-verden.de
SUMMARY:Typisch Emil
DESCRIPTION:Die bewegende Geschichte des Schweizer Kult-Kabarettisten Emil Steinberger. Seine unvergesslichen Auftritte\, sein Humor und seine einzigartige Sprache\, die Generationen geprägt haben\, machen ihn unvergesslich. \nDoch Regisseur Phil Meyer blickt über die bekannten Bühnenfiguren hinaus und zeigt Emil als Künstler und Mensch\, der sich den Schatten seiner Kindheit und dem Druck des Erfolgs stellt. \nZwischen Neubeginn und Abschied entfaltet sich eine Geschichte über Kreativität\, Durchhaltevermögen und eine große\, romantische Liebe. \nCH 2024\, 123 Min. \n \ntwittern teilen mitteilen 
URL:http://koki-verden.de/event/typisch-emil/
LOCATION:Cine City Verden\, Zollstraße 1\, Verden\, 27283\, Deutschland
END:VEVENT
END:VCALENDAR